BEGIN:VCALENDAR
VERSION:2.0
PRODID:-//Queenscliff Harbour - ECPv4.6.7//NONSGML v1.0//EN
CALSCALE:GREGORIAN
METHOD:PUBLISH
X-WR-CALNAME:Queenscliff Harbour
X-ORIGINAL-URL:http://www.queenscliffharbour.com.au
X-WR-CALDESC:Events for Queenscliff Harbour
BEGIN:VEVENT
DTSTART;TZID=UTC+0:20200313T120000
DTEND;TZID=UTC+0:20200313T160000
DTSTAMP:20200229T194145
CREATED:20200130T041442Z
LAST-MODIFIED:20200131T001509Z
UID:981-1584100800-1584115200@www.queenscliffharbour.com.au
SUMMARY:Queenscliff Harbour's Longest Lunch
DESCRIPTION: \n  \n  \nFood\, wine and community come together at the Queenscliff Harbour \nCould lunch in Queenscliff get any better than eating freshly caught seafood by the sea? \nQueenscliff Harbour’s best restaurants and chefs will gather together for this long lunch\, set on the Harbour’s boardwalk\, to highlight the Bellarine Peninsula’s excellent produce. The maritime vibe will be enhanced by matched wines from local winemakers. \nSee you by the seaside. \n\nFor tickets Book Here\n\nAccommodation Recommendations \nhttp://www.queenscliffe.vic.gov.au/business-directory/accommodation \nVenue Directions\n A short stroll from Searoad Ferries or if driving follow the signage to Queenscliff Harbour.\n Head towards the 40m observation tower to arrive at the Harbour promenade. McHarry’s Bus lines also operate from Geelong & Geelong train station. \n \n
URL:http://www.queenscliffharbour.com.au/event/queenscliff-harbour-long-lunch/
LOCATION:Queenscliff Harbour\, Harbour Street\, Queenscliff\, VIC\, 3225\, Australia
END:VEVENT
END:VCALENDAR